BEGIN:VCALENDAR
VERSION:2.0
PRODID:-//Biocurate - ECPv4.9.10//NONSGML v1.0//EN
CALSCALE:GREGORIAN
METHOD:PUBLISH
X-WR-CALNAME:Biocurate
X-ORIGINAL-URL:https://www.biocurate.com
X-WR-CALDESC:Events for Biocurate
BEGIN:VTIMEZONE
TZID:Australia/Melbourne
BEGIN:STANDARD
TZOFFSETFROM:+1100
TZOFFSETTO:+1000
TZNAME:AEST
DTSTART:20230401T160000
END:STANDARD
BEGIN:DAYLIGHT
TZOFFSETFROM:+1000
TZOFFSETTO:+1100
TZNAME:AEDT
DTSTART:20230930T160000
END:DAYLIGHT
END:VTIMEZONE
BEGIN:VEVENT
DTSTART;TZID=Australia/Melbourne:20231011T080000
DTEND;TZID=Australia/Melbourne:20231012T170000
DTSTAMP:20260420T081035
CREATED:20231011T045438Z
LAST-MODIFIED:20231011T045438Z
UID:3220-1697011200-1697130000@www.biocurate.com
SUMMARY:2023 KCA Annual Conference
DESCRIPTION:This year’s conference program\, taking place at the QT Hotel\, Surfers Paradise\, will feature leading international and national speakers\, panel sessions\, workshops and discussions exploring the importance of our theme \n‘Innovation to Adoption: Delivering Real Impact’. \nDon’t miss your chance to learn from others\, share your experiences and challenges\, as well as participate in the opportunity to network and collaborate with your peers. \n\nBioCurate Director of Project Management Dr Cathy Drinkwater will be attending\n\nThe program\, more information and registration details can be found here. \n
URL:https://www.biocurate.com/event/2023-kca-annual-conference/
LOCATION:QT Hotel\, Surfers Paradise\, 7 Staghorn Ave\, Surfers Paradise\, Queensland\, 4217\, Australia
ATTACH;FMTTYPE=image/png:https://www.biocurate.com/wp-content/uploads/2023/10/Untitled-design2.png
END:VEVENT
END:VCALENDAR