BEGIN:VCALENDAR
VERSION:2.0
PRODID:-//Biocurate - ECPv4.9.10//NONSGML v1.0//EN
CALSCALE:GREGORIAN
METHOD:PUBLISH
X-WR-CALNAME:Biocurate
X-ORIGINAL-URL:https://www.biocurate.com
X-WR-CALDESC:Events for Biocurate
BEGIN:VTIMEZONE
TZID:Australia/Melbourne
BEGIN:STANDARD
TZOFFSETFROM:+1100
TZOFFSETTO:+1000
TZNAME:AEST
DTSTART:20230401T160000
END:STANDARD
BEGIN:DAYLIGHT
TZOFFSETFROM:+1000
TZOFFSETTO:+1100
TZNAME:AEDT
DTSTART:20230930T160000
END:DAYLIGHT
END:VTIMEZONE
BEGIN:VEVENT
DTSTART;TZID=Australia/Melbourne:20230809T110000
DTEND;TZID=Australia/Melbourne:20230809T120000
DTSTAMP:20260420T081317
CREATED:20230727T063442Z
LAST-MODIFIED:20230727T063743Z
UID:3126-1691578800-1691582400@www.biocurate.com
SUMMARY:Proof-of-Concept Funding and Development of Therapeutics with BioCurate Information Session at Melbourne Connect
DESCRIPTION:Find out how BioCurate can help you translate your research at our Information Session\nJoin us to learn more about BioCurate\, BioCurate’s evaluation process\, selection and funding process\, as well as the Proof-of-Concept Fund\, ahead of the next round of BioCurate Opportunity Assessment (BOA) applications (open 7 August – close 15 September 2023). \nThe information session will be followed by a panel\, and then networking lunch (12pm onwards) at Melbourne Connect. \nSpeakers: \n \nLocation: \nThe Studio (Ground Floor)\, Melbourne Connect 700 Swanston Street Carlton\, VIC 3053 \n\nClick here to download a map of the venue\nClick here for more information on how to get to Melbourne Connect (including parking details)\n\n  \nRegister via Eventbrite\n  \n
URL:https://www.biocurate.com/event/proof-of-concept-funding-and-development-of-therapeutics-with-biocurate-information-session-at-melbourne-connect/
LOCATION:The Studio\, Melbourne Connect\, 700 Swanston Street\, Carlton\, Victoria\, 3053\, Australia
ATTACH;FMTTYPE=image/png:https://www.biocurate.com/wp-content/uploads/2023/07/Proof-of-Concept-POC-Funding-and-Development-of-Therapeutics-with-BioCurate.png
ORGANIZER;CN="BioCurate":MAILTO:info@biocurate.com
END:VEVENT
END:VCALENDAR